BEGIN:VCALENDAR
VERSION:2.0
PRODID:-//Park Place - ECPv6.15.20//NONSGML v1.0//EN
CALSCALE:GREGORIAN
METHOD:PUBLISH
X-ORIGINAL-URL:https://parkplaceleawood.com
X-WR-CALDESC:Events for Park Place
REFRESH-INTERVAL;VALUE=DURATION:PT1H
X-Robots-Tag:noindex
X-PUBLISHED-TTL:PT1H
BEGIN:VTIMEZONE
TZID:America/Chicago
BEGIN:DAYLIGHT
TZOFFSETFROM:-0600
TZOFFSETTO:-0500
TZNAME:CDT
DTSTART:20230312T080000
END:DAYLIGHT
BEGIN:STANDARD
TZOFFSETFROM:-0500
TZOFFSETTO:-0600
TZNAME:CST
DTSTART:20231105T070000
END:STANDARD
BEGIN:DAYLIGHT
TZOFFSETFROM:-0600
TZOFFSETTO:-0500
TZNAME:CDT
DTSTART:20240310T080000
END:DAYLIGHT
BEGIN:STANDARD
TZOFFSETFROM:-0500
TZOFFSETTO:-0600
TZNAME:CST
DTSTART:20241103T070000
END:STANDARD
BEGIN:DAYLIGHT
TZOFFSETFROM:-0600
TZOFFSETTO:-0500
TZNAME:CDT
DTSTART:20250309T080000
END:DAYLIGHT
BEGIN:STANDARD
TZOFFSETFROM:-0500
TZOFFSETTO:-0600
TZNAME:CST
DTSTART:20251102T070000
END:STANDARD
END:VTIMEZONE
BEGIN:VTIMEZONE
TZID:America/Chicago
BEGIN:DAYLIGHT
TZOFFSETFROM:-0600
TZOFFSETTO:-0500
TZNAME:CDT
DTSTART:20230312T080000
END:DAYLIGHT
BEGIN:STANDARD
TZOFFSETFROM:-0500
TZOFFSETTO:-0600
TZNAME:CST
DTSTART:20231105T070000
END:STANDARD
BEGIN:DAYLIGHT
TZOFFSETFROM:-0600
TZOFFSETTO:-0500
TZNAME:CDT
DTSTART:20240310T080000
END:DAYLIGHT
BEGIN:STANDARD
TZOFFSETFROM:-0500
TZOFFSETTO:-0600
TZNAME:CST
DTSTART:20241103T070000
END:STANDARD
BEGIN:DAYLIGHT
TZOFFSETFROM:-0600
TZOFFSETTO:-0500
TZNAME:CDT
DTSTART:20250309T080000
END:DAYLIGHT
BEGIN:STANDARD
TZOFFSETFROM:-0500
TZOFFSETTO:-0600
TZNAME:CST
DTSTART:20251102T070000
END:STANDARD
END:VTIMEZONE
BEGIN:VEVENT
DTSTART;TZID=America/Chicago:20240220T040000
DTEND;TZID=America/Chicago:20240303T090000
DTSTAMP:20260422T022153
CREATED:20240308T154526Z
LAST-MODIFIED:20240328T170308Z
UID:10008802-1708401600-1709456400@parkplaceleawood.com
SUMMARY:The Ice at Park Place
DESCRIPTION:
URL:https://parkplaceleawood.com/event/the-ice-at-park-place-11/
LOCATION:Park Place
CATEGORIES:Event,Featured,Open Skate,The Ice at Park Place,Visit
ATTACH;FMTTYPE=image/jpeg:https://parkplaceleawood.com/wp-content/uploads/2021/09/strolling-santa-and-carolers-thumb.jpg
END:VEVENT
BEGIN:VEVENT
DTSTART;TZID=America/Chicago:20240316T080000
DTEND;TZID=America/Chicago:20240316T093000
DTSTAMP:20260422T022153
CREATED:20240207T071720Z
LAST-MODIFIED:20240326T094923Z
UID:10001207-1710576000-1710581400@parkplaceleawood.com
SUMMARY:St. Patrick's 5K Run/Walk
DESCRIPTION:
URL:https://parkplaceleawood.com/event/st-patricks-5k-run-walk/
LOCATION:Barkley Square
CATEGORIES:Event,Featured
ATTACH;FMTTYPE=image/jpeg:https://parkplaceleawood.com/wp-content/uploads/2022/03/StPatsRace_21_Pro_ForWeb.jpg
END:VEVENT
BEGIN:VEVENT
DTSTART;VALUE=DATE:20240322
DTEND;VALUE=DATE:20240325
DTSTAMP:20260422T022153
CREATED:20240207T072602Z
LAST-MODIFIED:20240326T172938Z
UID:10001208-1711065600-1711324799@parkplaceleawood.com
SUMMARY:Park Place Spring Sale-abration!
DESCRIPTION:
URL:https://parkplaceleawood.com/event/park-place-spring-sale-abration/
LOCATION:Throughout Park Place
CATEGORIES:Event,Featured
ATTACH;FMTTYPE=image/jpeg:https://parkplaceleawood.com/wp-content/uploads/2023/03/ParkPlace-Taylor-281-e1678900810956.jpg
END:VEVENT
BEGIN:VEVENT
DTSTART;TZID=America/Chicago:20240323T130000
DTEND;TZID=America/Chicago:20240323T160000
DTSTAMP:20260422T022153
CREATED:20240306T173056Z
LAST-MODIFIED:20240326T102034Z
UID:10008787-1711198800-1711209600@parkplaceleawood.com
SUMMARY:House Party - Spring Sale-abration!
DESCRIPTION:
URL:https://parkplaceleawood.com/event/house-party-spring-sale-abration/
LOCATION:Barkley Square – 11565 Ash St.\, 11565 Ash St.\, KS\, United States
CATEGORIES:Event,Featured
ATTACH;FMTTYPE=image/jpeg:https://parkplaceleawood.com/wp-content/uploads/2024/03/DSC_6419-scaled-e1678902700158.jpg
END:VEVENT
END:VCALENDAR