BEGIN:VCALENDAR
VERSION:2.0
PRODID:-//Park Place - ECPv6.15.20//NONSGML v1.0//EN
CALSCALE:GREGORIAN
METHOD:PUBLISH
X-ORIGINAL-URL:https://parkplaceleawood.com
X-WR-CALDESC:Events for Park Place
REFRESH-INTERVAL;VALUE=DURATION:PT1H
X-Robots-Tag:noindex
X-PUBLISHED-TTL:PT1H
BEGIN:VTIMEZONE
TZID:America/Chicago
BEGIN:DAYLIGHT
TZOFFSETFROM:-0600
TZOFFSETTO:-0500
TZNAME:CDT
DTSTART:20220313T080000
END:DAYLIGHT
BEGIN:STANDARD
TZOFFSETFROM:-0500
TZOFFSETTO:-0600
TZNAME:CST
DTSTART:20221106T070000
END:STANDARD
BEGIN:DAYLIGHT
TZOFFSETFROM:-0600
TZOFFSETTO:-0500
TZNAME:CDT
DTSTART:20230312T080000
END:DAYLIGHT
BEGIN:STANDARD
TZOFFSETFROM:-0500
TZOFFSETTO:-0600
TZNAME:CST
DTSTART:20231105T070000
END:STANDARD
BEGIN:DAYLIGHT
TZOFFSETFROM:-0600
TZOFFSETTO:-0500
TZNAME:CDT
DTSTART:20240310T080000
END:DAYLIGHT
BEGIN:STANDARD
TZOFFSETFROM:-0500
TZOFFSETTO:-0600
TZNAME:CST
DTSTART:20241103T070000
END:STANDARD
END:VTIMEZONE
BEGIN:VEVENT
DTSTART;VALUE=DATE:20230901
DTEND;VALUE=DATE:20230905
DTSTAMP:20260422T083900
CREATED:20230818T180303Z
LAST-MODIFIED:20240325T174913Z
UID:10008936-1693526400-1693871999@parkplaceleawood.com
SUMMARY:Park Place Un-Sidewalk Sale
DESCRIPTION:
URL:https://parkplaceleawood.com/event/park-place-un-sidewalk-sale/
LOCATION:Throughout Park Place
CATEGORIES:Event,Featured
ATTACH;FMTTYPE=image/jpeg:https://parkplaceleawood.com/wp-content/uploads/2022/03/ParkPlace239-1-e1693518213788.jpg
END:VEVENT
BEGIN:VEVENT
DTSTART;TZID=America/Chicago:20230901T180000
DTEND;TZID=America/Chicago:20230901T200000
DTSTAMP:20260422T083900
CREATED:20220414T172940Z
LAST-MODIFIED:20240326T082238Z
UID:10008975-1693591200-1693598400@parkplaceleawood.com
SUMMARY:Guitars & Games
DESCRIPTION:
URL:https://parkplaceleawood.com/event/guitars-games-18/
LOCATION:Barkley Square
CATEGORIES:Event
ATTACH;FMTTYPE=image/jpeg:https://parkplaceleawood.com/wp-content/uploads/2022/04/GuitarPhoto2019-1-e1712774380755.jpg
END:VEVENT
BEGIN:VEVENT
DTSTART;TZID=America/Chicago:20230902T193000
DTEND;TZID=America/Chicago:20230902T220000
DTSTAMP:20260422T083900
CREATED:20230519T194004Z
LAST-MODIFIED:20240325T175700Z
UID:10008937-1693683000-1693692000@parkplaceleawood.com
SUMMARY:Movies in the Square: Ferris Bueller's Day Off
DESCRIPTION:
URL:https://parkplaceleawood.com/event/movies-in-the-square-3-2023-07-08-2023-09-02/
LOCATION:Barkley Square – 11565 Ash St.\, 11565 Ash St.\, KS\, United States
CATEGORIES:Event,Featured
ATTACH;FMTTYPE=image/jpeg:https://parkplaceleawood.com/wp-content/uploads/2022/05/9989a-1.jpg
END:VEVENT
BEGIN:VEVENT
DTSTART;TZID=America/Chicago:20230908T180000
DTEND;TZID=America/Chicago:20230908T200000
DTSTAMP:20260422T083900
CREATED:20220414T172915Z
LAST-MODIFIED:20240326T082258Z
UID:10008976-1694196000-1694203200@parkplaceleawood.com
SUMMARY:Guitars & Games
DESCRIPTION:
URL:https://parkplaceleawood.com/event/guitars-games-19/
LOCATION:Barkley Square
CATEGORIES:Event
ATTACH;FMTTYPE=image/jpeg:https://parkplaceleawood.com/wp-content/uploads/2022/04/GuitarPhoto2019-1-e1712774380755.jpg
END:VEVENT
BEGIN:VEVENT
DTSTART;TZID=America/Chicago:20230909T100000
DTEND;TZID=America/Chicago:20230909T120000
DTSTAMP:20260422T083900
CREATED:20230818T210533Z
LAST-MODIFIED:20240325T180111Z
UID:10008938-1694253600-1694260800@parkplaceleawood.com
SUMMARY:Second Saturdays for Kids! "Bouncing into Fall"
DESCRIPTION:
URL:https://parkplaceleawood.com/event/second-saturdays-for-kids-bouncing-into-fall/
LOCATION:Barkley Square – 11565 Ash St.\, 11565 Ash St.\, KS\, United States
CATEGORIES:Event,Featured
ATTACH;FMTTYPE=image/jpeg:https://parkplaceleawood.com/wp-content/uploads/2023/08/ParkPlaceSpringContent-108-e1692392703977.jpg
END:VEVENT
BEGIN:VEVENT
DTSTART;TZID=America/Chicago:20230909T193000
DTEND;TZID=America/Chicago:20230909T220000
DTSTAMP:20260422T083900
CREATED:20230519T194004Z
LAST-MODIFIED:20240325T180514Z
UID:10008939-1694287800-1694296800@parkplaceleawood.com
SUMMARY:Movies in the Square: Top Gun: Maverick
DESCRIPTION:
URL:https://parkplaceleawood.com/event/movies-in-the-square-3-2023-07-08-2023-09-09/
LOCATION:Barkley Square – 11565 Ash St.\, 11565 Ash St.\, KS\, United States
CATEGORIES:Event,Featured
ATTACH;FMTTYPE=image/jpeg:https://parkplaceleawood.com/wp-content/uploads/2022/05/9989a-1.jpg
END:VEVENT
BEGIN:VEVENT
DTSTART;TZID=America/Chicago:20230915T180000
DTEND;TZID=America/Chicago:20230915T200000
DTSTAMP:20260422T083900
CREATED:20220414T172933Z
LAST-MODIFIED:20240326T082316Z
UID:10008977-1694800800-1694808000@parkplaceleawood.com
SUMMARY:Guitars & Games
DESCRIPTION:
URL:https://parkplaceleawood.com/event/guitars-games-20/
LOCATION:Barkley Square
CATEGORIES:Event
ATTACH;FMTTYPE=image/jpeg:https://parkplaceleawood.com/wp-content/uploads/2022/04/GuitarPhoto2019-1-e1712774380755.jpg
END:VEVENT
BEGIN:VEVENT
DTSTART;TZID=America/Chicago:20230916T193000
DTEND;TZID=America/Chicago:20230916T220000
DTSTAMP:20260422T083900
CREATED:20230519T194027Z
LAST-MODIFIED:20240325T181143Z
UID:10008941-1694892600-1694901600@parkplaceleawood.com
SUMMARY:Rescheduled for Oct. 7: Movies in the Square: The Parent Trap (1998)
DESCRIPTION:
URL:https://parkplaceleawood.com/event/movies-in-the-square-3-2023-07-08-2023-09-16/
LOCATION:Barkley Square – 11565 Ash St.\, 11565 Ash St.\, KS\, United States
CATEGORIES:Event,Featured
ATTACH;FMTTYPE=image/jpeg:https://parkplaceleawood.com/wp-content/uploads/2022/05/9989a-1.jpg
END:VEVENT
BEGIN:VEVENT
DTSTART;TZID=America/Chicago:20230922T180000
DTEND;TZID=America/Chicago:20230922T200000
DTSTAMP:20260422T083900
CREATED:20220414T172953Z
LAST-MODIFIED:20240326T121932Z
UID:10009053-1695405600-1695412800@parkplaceleawood.com
SUMMARY:Guitars & Games
DESCRIPTION:
URL:https://parkplaceleawood.com/event/guitars-games-21/
LOCATION:Barkley Square
CATEGORIES:Event
ATTACH;FMTTYPE=image/jpeg:https://parkplaceleawood.com/wp-content/uploads/2022/04/GuitarPhoto2019-1-e1712774380755.jpg
END:VEVENT
BEGIN:VEVENT
DTSTART;TZID=America/Chicago:20230923T193000
DTEND;TZID=America/Chicago:20230923T220000
DTSTAMP:20260422T083900
CREATED:20230519T194012Z
LAST-MODIFIED:20240325T182106Z
UID:10008942-1695497400-1695506400@parkplaceleawood.com
SUMMARY:Rescheduled for Oct. 14: Movies in the Square: Black Panther
DESCRIPTION:
URL:https://parkplaceleawood.com/event/movies-in-the-square-3-2023-07-08-2023-09-23/
LOCATION:Barkley Square – 11565 Ash St.\, 11565 Ash St.\, KS\, United States
CATEGORIES:Event,Featured
ATTACH;FMTTYPE=image/jpeg:https://parkplaceleawood.com/wp-content/uploads/2022/05/9989a-1.jpg
END:VEVENT
BEGIN:VEVENT
DTSTART;TZID=America/Chicago:20230929T180000
DTEND;TZID=America/Chicago:20230929T200000
DTSTAMP:20260422T083900
CREATED:20220414T172905Z
LAST-MODIFIED:20240326T082424Z
UID:10008964-1696010400-1696017600@parkplaceleawood.com
SUMMARY:Guitars & Games
DESCRIPTION:
URL:https://parkplaceleawood.com/event/guitars-games-22/
LOCATION:Barkley Square
CATEGORIES:Event
ATTACH;FMTTYPE=image/jpeg:https://parkplaceleawood.com/wp-content/uploads/2022/04/GuitarPhoto2019-1-e1712774380755.jpg
END:VEVENT
BEGIN:VEVENT
DTSTART;TZID=America/Chicago:20230930T193000
DTEND;TZID=America/Chicago:20230930T220000
DTSTAMP:20260422T083900
CREATED:20230519T194002Z
LAST-MODIFIED:20240325T181824Z
UID:10008943-1696102200-1696111200@parkplaceleawood.com
SUMMARY:Movies in the Square: The Addams Family (1991)
DESCRIPTION:
URL:https://parkplaceleawood.com/event/movies-in-the-square-3-2023-07-08-2023-09-30/
LOCATION:Barkley Square – 11565 Ash St.\, 11565 Ash St.\, KS\, United States
CATEGORIES:Event,Featured
ATTACH;FMTTYPE=image/jpeg:https://parkplaceleawood.com/wp-content/uploads/2022/05/9989a-1.jpg
END:VEVENT
END:VCALENDAR