BEGIN:VCALENDAR
VERSION:2.0
PRODID:-//Park Place - ECPv6.15.20//NONSGML v1.0//EN
CALSCALE:GREGORIAN
METHOD:PUBLISH
X-WR-CALNAME:Park Place
X-ORIGINAL-URL:https://parkplaceleawood.com
X-WR-CALDESC:Events for Park Place
REFRESH-INTERVAL;VALUE=DURATION:PT1H
X-Robots-Tag:noindex
X-PUBLISHED-TTL:PT1H
BEGIN:VTIMEZONE
TZID:America/Chicago
BEGIN:DAYLIGHT
TZOFFSETFROM:-0600
TZOFFSETTO:-0500
TZNAME:CDT
DTSTART:20220313T080000
END:DAYLIGHT
BEGIN:STANDARD
TZOFFSETFROM:-0500
TZOFFSETTO:-0600
TZNAME:CST
DTSTART:20221106T070000
END:STANDARD
BEGIN:DAYLIGHT
TZOFFSETFROM:-0600
TZOFFSETTO:-0500
TZNAME:CDT
DTSTART:20230312T080000
END:DAYLIGHT
BEGIN:STANDARD
TZOFFSETFROM:-0500
TZOFFSETTO:-0600
TZNAME:CST
DTSTART:20231105T070000
END:STANDARD
BEGIN:DAYLIGHT
TZOFFSETFROM:-0600
TZOFFSETTO:-0500
TZNAME:CDT
DTSTART:20240310T080000
END:DAYLIGHT
BEGIN:STANDARD
TZOFFSETFROM:-0500
TZOFFSETTO:-0600
TZNAME:CST
DTSTART:20241103T070000
END:STANDARD
END:VTIMEZONE
BEGIN:VEVENT
DTSTART;TZID=America/Chicago:20230804T180000
DTEND;TZID=America/Chicago:20230804T200000
DTSTAMP:20260424T043507
CREATED:20220414T172936Z
LAST-MODIFIED:20240326T081815Z
UID:10008971-1691172000-1691179200@parkplaceleawood.com
SUMMARY:Guitars & Games
DESCRIPTION:
URL:https://parkplaceleawood.com/event/guitars-games-14/
LOCATION:Barkley Square
CATEGORIES:Event
ATTACH;FMTTYPE=image/jpeg:https://parkplaceleawood.com/wp-content/uploads/2022/04/GuitarPhoto2019-1-e1712774380755.jpg
END:VEVENT
BEGIN:VEVENT
DTSTART;TZID=America/Chicago:20230805T190000
DTEND;TZID=America/Chicago:20230805T210000
DTSTAMP:20260424T043507
CREATED:20230517T170208Z
LAST-MODIFIED:20240326T092603Z
UID:10008997-1691262000-1691269200@parkplaceleawood.com
SUMMARY:Summer Concert Series
DESCRIPTION:
URL:https://parkplaceleawood.com/event/summer-concert-series-5/
LOCATION:Barkley Square
CATEGORIES:Event,Featured
ATTACH;FMTTYPE=image/jpeg:https://parkplaceleawood.com/wp-content/uploads/2022/05/IMG_7590-1-e1654195333310.jpg
END:VEVENT
BEGIN:VEVENT
DTSTART;TZID=America/Chicago:20230811T180000
DTEND;TZID=America/Chicago:20230811T200000
DTSTAMP:20260424T043507
CREATED:20220414T172950Z
LAST-MODIFIED:20240326T082050Z
UID:10008972-1691776800-1691784000@parkplaceleawood.com
SUMMARY:Guitars & Games
DESCRIPTION:
URL:https://parkplaceleawood.com/event/guitars-games-15/
LOCATION:Barkley Square
CATEGORIES:Event
ATTACH;FMTTYPE=image/jpeg:https://parkplaceleawood.com/wp-content/uploads/2022/04/GuitarPhoto2019-1-e1712774380755.jpg
END:VEVENT
BEGIN:VEVENT
DTSTART;TZID=America/Chicago:20230812T100000
DTEND;TZID=America/Chicago:20230812T120000
DTSTAMP:20260424T043507
CREATED:20230710T215157Z
LAST-MODIFIED:20240325T173357Z
UID:10008935-1691834400-1691841600@parkplaceleawood.com
SUMMARY:Second Saturdays for Kids! "Dog Days" Puppy Play & Dog Walk
DESCRIPTION:
URL:https://parkplaceleawood.com/event/second-saturdays-for-kids-dog-days-puppy-play/
LOCATION:Barkley Square – 11565 Ash St.\, 11565 Ash St.\, KS\, United States
CATEGORIES:Event,Featured
ATTACH;FMTTYPE=image/jpeg:https://parkplaceleawood.com/wp-content/uploads/2023/07/DSC_9879-scaled.jpg
END:VEVENT
BEGIN:VEVENT
DTSTART;TZID=America/Chicago:20230812T190000
DTEND;TZID=America/Chicago:20230812T210000
DTSTAMP:20260424T043507
CREATED:20230517T170247Z
LAST-MODIFIED:20240326T092616Z
UID:10008998-1691866800-1691874000@parkplaceleawood.com
SUMMARY:Summer Concert Series
DESCRIPTION:
URL:https://parkplaceleawood.com/event/summer-concert-series-6/
LOCATION:Barkley Square
CATEGORIES:Event,Featured
ATTACH;FMTTYPE=image/jpeg:https://parkplaceleawood.com/wp-content/uploads/2022/05/IMG_7590-1-e1654195333310.jpg
END:VEVENT
BEGIN:VEVENT
DTSTART;TZID=America/Chicago:20230818T180000
DTEND;TZID=America/Chicago:20230818T200000
DTSTAMP:20260424T043507
CREATED:20220414T172904Z
LAST-MODIFIED:20240326T082154Z
UID:10008973-1692381600-1692388800@parkplaceleawood.com
SUMMARY:Guitars & Games
DESCRIPTION:
URL:https://parkplaceleawood.com/event/guitars-games-16/
LOCATION:Barkley Square
CATEGORIES:Event
ATTACH;FMTTYPE=image/jpeg:https://parkplaceleawood.com/wp-content/uploads/2022/04/GuitarPhoto2019-1-e1712774380755.jpg
END:VEVENT
BEGIN:VEVENT
DTSTART;TZID=America/Chicago:20230819T190000
DTEND;TZID=America/Chicago:20230819T210000
DTSTAMP:20260424T043507
CREATED:20230517T170217Z
LAST-MODIFIED:20240326T092635Z
UID:10008993-1692471600-1692478800@parkplaceleawood.com
SUMMARY:Summer Concert Series
DESCRIPTION:
URL:https://parkplaceleawood.com/event/summer-concert-series-7/
LOCATION:Barkley Square
CATEGORIES:Event,Featured
ATTACH;FMTTYPE=image/jpeg:https://parkplaceleawood.com/wp-content/uploads/2022/05/IMG_7590-1-e1654195333310.jpg
END:VEVENT
BEGIN:VEVENT
DTSTART;TZID=America/Chicago:20230825T180000
DTEND;TZID=America/Chicago:20230825T200000
DTSTAMP:20260424T043507
CREATED:20220414T172926Z
LAST-MODIFIED:20240326T082220Z
UID:10008974-1692986400-1692993600@parkplaceleawood.com
SUMMARY:Guitars & Games
DESCRIPTION:
URL:https://parkplaceleawood.com/event/guitars-games-17/
LOCATION:Barkley Square
CATEGORIES:Event
ATTACH;FMTTYPE=image/jpeg:https://parkplaceleawood.com/wp-content/uploads/2022/04/GuitarPhoto2019-1-e1712774380755.jpg
END:VEVENT
BEGIN:VEVENT
DTSTART;TZID=America/Chicago:20230826T190000
DTEND;TZID=America/Chicago:20230826T210000
DTSTAMP:20260424T043507
CREATED:20230517T170258Z
LAST-MODIFIED:20240326T092652Z
UID:10008990-1693076400-1693083600@parkplaceleawood.com
SUMMARY:Summer Concert Series
DESCRIPTION:
URL:https://parkplaceleawood.com/event/summer-concert-series-8/
LOCATION:Barkley Square
CATEGORIES:Event,Featured
ATTACH;FMTTYPE=image/jpeg:https://parkplaceleawood.com/wp-content/uploads/2022/05/IMG_7590-1-e1654195333310.jpg
END:VEVENT
END:VCALENDAR